BEGIN:VCALENDAR
VERSION:2.0
PRODID:-//Historischer Verein Herne / Wanne-Eickel e. V.//NONSGML kigkonsult.se iCalcreator 2.41.92//
CALSCALE:GREGORIAN
METHOD:PUBLISH
UID:38366566-3738-4064-b532-303335376230
X-WR-CALNAME:iCagenda
X-WR-CALDESC:Event Management Extension for Joomla!
X-WR-RELCALID:3E26604A-50F4-4449-8B3E-E4F4932D05B5
X-WR-TIMEZONE:Europe/Berlin
BEGIN:VTIMEZONE
TZID:Europe/Berlin
TZUNTIL:20260329T010000Z
BEGIN:STANDARD
TZNAME:CET
DTSTART:20231029T030000
TZOFFSETFROM:+0200
TZOFFSETTO:+0100
RDATE:20241027T030000
RDATE:20251026T030000
END:STANDARD
BEGIN:DAYLIGHT
TZNAME:CEST
DTSTART:20240331T020000
TZOFFSETFROM:+0100
TZOFFSETTO:+0200
RDATE:20250330T020000
END:DAYLIGHT
END:VTIMEZONE
BEGIN:VEVENT
UID:34613336-3965-4562-b534-663036666631
DTSTAMP:20260420T105722Z
CATEGORIES:Veranstaltungen
CLASS:PUBLIC
DESCRIPTION:
DTSTART:20240526T120000Z
DTEND:20240526T160000Z
GEO:+51.551426;+7.21137
LOCATION:Schloss Strünkede
ORGANIZER:
SEQUENCE:1
SUMMARY:Familientag
TRANSP:OPAQUE
URL:https://www.hv-her-wan.de/index.php/component/icagenda/111-familientag
END:VEVENT
END:VCALENDAR
